BEGIN:VCALENDAR
VERSION:2.0
PRODID:-//Café Nesthocker - ECPv6.2.3.1//NONSGML v1.0//EN
CALSCALE:GREGORIAN
METHOD:PUBLISH
X-WR-CALNAME:Café Nesthocker
X-ORIGINAL-URL:http://nesthocker-offingen.de/www
X-WR-CALDESC:Veranstaltungen für Café Nesthocker
REFRESH-INTERVAL;VALUE=DURATION:PT1H
X-Robots-Tag:noindex
X-PUBLISHED-TTL:PT1H
BEGIN:VTIMEZONE
TZID:Europe/Berlin
BEGIN:DAYLIGHT
TZOFFSETFROM:+0100
TZOFFSETTO:+0200
TZNAME:CEST
DTSTART:20250330T010000
END:DAYLIGHT
BEGIN:STANDARD
TZOFFSETFROM:+0200
TZOFFSETTO:+0100
TZNAME:CET
DTSTART:20251026T010000
END:STANDARD
END:VTIMEZONE
BEGIN:VEVENT
DTSTART;TZID=Europe/Berlin:20250215T190000
DTEND;TZID=Europe/Berlin:20250215T230000
DTSTAMP:20260420T065206
CREATED:20250130T093013Z
LAST-MODIFIED:20250130T093013Z
UID:1273-1739646000-1739660400@nesthocker-offingen.de
SUMMARY:Konzert mit 'Jacky Gitarr'
DESCRIPTION:Livemusik mit Gitarre u.a.; Eigenkompositionen\, Blues und Oldies versprechen einen abwechslungsreichen Abend.
URL:http://nesthocker-offingen.de/www/event/konzert-mit-jacky-gitarr/
CATEGORIES:Konzert
ORGANIZER;CN="Caf%C3%A9 Nesthocker":MAILTO:info@nesthocker-offingen.de
END:VEVENT
END:VCALENDAR