BEGIN:VCALENDAR
VERSION:2.0
PRODID:-//Café Nesthocker - ECPv6.2.3.1//NONSGML v1.0//EN
CALSCALE:GREGORIAN
METHOD:PUBLISH
X-WR-CALNAME:Café Nesthocker
X-ORIGINAL-URL:http://nesthocker-offingen.de/www
X-WR-CALDESC:Veranstaltungen für Café Nesthocker
REFRESH-INTERVAL;VALUE=DURATION:PT1H
X-Robots-Tag:noindex
X-PUBLISHED-TTL:PT1H
BEGIN:VTIMEZONE
TZID:Europe/Berlin
BEGIN:DAYLIGHT
TZOFFSETFROM:+0100
TZOFFSETTO:+0200
TZNAME:CEST
DTSTART:20240331T010000
END:DAYLIGHT
BEGIN:STANDARD
TZOFFSETFROM:+0200
TZOFFSETTO:+0100
TZNAME:CET
DTSTART:20241027T010000
END:STANDARD
END:VTIMEZONE
BEGIN:VEVENT
DTSTART;TZID=Europe/Berlin:20241102T150000
DTEND;TZID=Europe/Berlin:20241102T180000
DTSTAMP:20260420T094929
CREATED:20241026T213210Z
LAST-MODIFIED:20241031T103717Z
UID:1188-1730559600-1730570400@nesthocker-offingen.de
SUMMARY:Live Konzert mit der 'Schlagercombo'
DESCRIPTION:
URL:http://nesthocker-offingen.de/www/event/konzert-mit-der-schlagercombo/
LOCATION:Café Nesthocker\, Bahnhofstraße 42\, Offingen\, Bayern\, 89362\, Deutschland
ATTACH;FMTTYPE=image/jpeg:http://nesthocker-offingen.de/www/wp-content/uploads/2024/10/20241022_194312-scaled.jpg
END:VEVENT
BEGIN:VEVENT
DTSTART;TZID=Europe/Berlin:20241122T193000
DTEND;TZID=Europe/Berlin:20241122T220000
DTSTAMP:20260420T094929
CREATED:20240109T180704Z
LAST-MODIFIED:20241108T154424Z
UID:1091-1732303800-1732312800@nesthocker-offingen.de
SUMMARY:Konzert 'Smile A While'
DESCRIPTION:  \n 
URL:http://nesthocker-offingen.de/www/event/konzert-smile-a-while/
LOCATION:Café Nesthocker\, Bahnhofstraße 42\, Offingen\, Bayern\, 89362\, Deutschland
CATEGORIES:Konzert
END:VEVENT
END:VCALENDAR