BEGIN:VCALENDAR
VERSION:2.0
PRODID:-//Café Nesthocker - ECPv6.2.3.1//NONSGML v1.0//EN
CALSCALE:GREGORIAN
METHOD:PUBLISH
X-WR-CALNAME:Café Nesthocker
X-ORIGINAL-URL:http://nesthocker-offingen.de/www
X-WR-CALDESC:Veranstaltungen für Café Nesthocker
REFRESH-INTERVAL;VALUE=DURATION:PT1H
X-Robots-Tag:noindex
X-PUBLISHED-TTL:PT1H
BEGIN:VTIMEZONE
TZID:Europe/Berlin
BEGIN:DAYLIGHT
TZOFFSETFROM:+0100
TZOFFSETTO:+0200
TZNAME:CEST
DTSTART:20250330T010000
END:DAYLIGHT
BEGIN:STANDARD
TZOFFSETFROM:+0200
TZOFFSETTO:+0100
TZNAME:CET
DTSTART:20251026T010000
END:STANDARD
END:VTIMEZONE
BEGIN:VEVENT
DTSTART;TZID=Europe/Berlin:20250411T193000
DTEND;TZID=Europe/Berlin:20250411T230000
DTSTAMP:20260420T013549
CREATED:20240216T094719Z
LAST-MODIFIED:20250402T185703Z
UID:1123-1744399800-1744412400@nesthocker-offingen.de
SUMMARY:Konzert 'Good Old Boys'
DESCRIPTION:
URL:http://nesthocker-offingen.de/www/event/konzert-good-old-boys/
LOCATION:Café Nesthocker\, Bahnhofstraße 42\, Offingen\, Bayern\, 89362\, Deutschland
CATEGORIES:Konzert
END:VEVENT
END:VCALENDAR